BEGIN:VCALENDAR
VERSION:2.0
PRODID:-//Davis County Fine Arts Council - ECPv6.15.16.1//NONSGML v1.0//EN
CALSCALE:GREGORIAN
METHOD:PUBLISH
X-WR-CALNAME:Davis County Fine Arts Council
X-ORIGINAL-URL:http://dcfineartscouncil.com
X-WR-CALDESC:Events for Davis County Fine Arts Council
REFRESH-INTERVAL;VALUE=DURATION:PT1H
X-Robots-Tag:noindex
X-PUBLISHED-TTL:PT1H
BEGIN:VTIMEZONE
TZID:America/Chicago
BEGIN:DAYLIGHT
TZOFFSETFROM:-0600
TZOFFSETTO:-0500
TZNAME:CDT
DTSTART:20250309T080000
END:DAYLIGHT
BEGIN:STANDARD
TZOFFSETFROM:-0500
TZOFFSETTO:-0600
TZNAME:CST
DTSTART:20251102T070000
END:STANDARD
BEGIN:DAYLIGHT
TZOFFSETFROM:-0600
TZOFFSETTO:-0500
TZNAME:CDT
DTSTART:20260308T080000
END:DAYLIGHT
BEGIN:STANDARD
TZOFFSETFROM:-0500
TZOFFSETTO:-0600
TZNAME:CST
DTSTART:20261101T070000
END:STANDARD
BEGIN:DAYLIGHT
TZOFFSETFROM:-0600
TZOFFSETTO:-0500
TZNAME:CDT
DTSTART:20270314T080000
END:DAYLIGHT
BEGIN:STANDARD
TZOFFSETFROM:-0500
TZOFFSETTO:-0600
TZNAME:CST
DTSTART:20271107T070000
END:STANDARD
END:VTIMEZONE
BEGIN:VEVENT
DTSTART;TZID=America/Chicago:20260628T140000
DTEND;TZID=America/Chicago:20260628T153000
DTSTAMP:20260420T100921
CREATED:20260418T213950Z
LAST-MODIFIED:20260418T214030Z
UID:1843-1782655200-1782660600@dcfineartscouncil.com
SUMMARY:Community Choir: America's 250th Birthday
DESCRIPTION:The Davis County Community Choir will be celebrating America’s 250th birthday with a repertoire of patriotic music on Sunday\, June 28th at 2:00 pm.\nRehearsal schedule is as follows:\nMonday\, May 4\nMonday\, May 11\nMonday\, May 18\nTuesday\, May 26\nMonday\, June 1\nMonday\, June 8\nMonday\, June 15\nMonday\, June 22\,\nWednesday\, June 24th\nAll rehearsal times are 6:30 – 8:00 and will be held in the Kay Burchette Cultural Center.\nIf interested\, contact Lyle Stirling at 641-208-6012 or lylestirling@gmail.com  This concert is sponsored by the Spectrum Center for the Arts.
URL:http://dcfineartscouncil.com/event/community-choir-americas-250th-birthday
LOCATION:IA
CATEGORIES:Spectrum for the Arts
END:VEVENT
END:VCALENDAR