BEGIN:VCALENDAR
VERSION:2.0
PRODID:-//Davis County Fine Arts Council - ECPv6.15.16.1//NONSGML v1.0//EN
CALSCALE:GREGORIAN
METHOD:PUBLISH
X-ORIGINAL-URL:http://dcfineartscouncil.com
X-WR-CALDESC:Events for Davis County Fine Arts Council
REFRESH-INTERVAL;VALUE=DURATION:PT1H
X-Robots-Tag:noindex
X-PUBLISHED-TTL:PT1H
BEGIN:VTIMEZONE
TZID:America/Chicago
BEGIN:DAYLIGHT
TZOFFSETFROM:-0600
TZOFFSETTO:-0500
TZNAME:CDT
DTSTART:20250309T080000
END:DAYLIGHT
BEGIN:STANDARD
TZOFFSETFROM:-0500
TZOFFSETTO:-0600
TZNAME:CST
DTSTART:20251102T070000
END:STANDARD
BEGIN:DAYLIGHT
TZOFFSETFROM:-0600
TZOFFSETTO:-0500
TZNAME:CDT
DTSTART:20260308T080000
END:DAYLIGHT
BEGIN:STANDARD
TZOFFSETFROM:-0500
TZOFFSETTO:-0600
TZNAME:CST
DTSTART:20261101T070000
END:STANDARD
BEGIN:DAYLIGHT
TZOFFSETFROM:-0600
TZOFFSETTO:-0500
TZNAME:CDT
DTSTART:20270314T080000
END:DAYLIGHT
BEGIN:STANDARD
TZOFFSETFROM:-0500
TZOFFSETTO:-0600
TZNAME:CST
DTSTART:20271107T070000
END:STANDARD
END:VTIMEZONE
BEGIN:VEVENT
DTSTART;TZID=America/Chicago:20260511T160000
DTEND;TZID=America/Chicago:20260511T180000
DTSTAMP:20260421T074105
CREATED:20260418T171210Z
LAST-MODIFIED:20260418T213141Z
UID:1833-1778515200-1778522400@dcfineartscouncil.com
SUMMARY:Children's Theater Tryouts: Twice Upon a Time
DESCRIPTION:Children’s Theatre: Presenting “Twice Upon A Time” \nTryouts: May 11-13\, 4-6 pm in the KBCC \nPractices: May 18\, 4-6 pm through the end of the school year\nthen they will be daily from 9-11 am. \nDress Rehearsal: June 15 \nProduction: June 18 & 19\, 7 pm
URL:http://dcfineartscouncil.com/event/childrens-theater-tryouts-twice-upon-a-time-2
LOCATION:Kay Burchette Cultural Center\, 107 S. Washington\, Bloomfield\, IA\, 52537\, United States
CATEGORIES:Children's Theater
END:VEVENT
BEGIN:VEVENT
DTSTART;TZID=America/Chicago:20260512T160000
DTEND;TZID=America/Chicago:20260512T180000
DTSTAMP:20260421T074105
CREATED:20260418T171237Z
LAST-MODIFIED:20260418T213135Z
UID:1834-1778601600-1778608800@dcfineartscouncil.com
SUMMARY:Children's Theater Tryouts: Twice Upon a Time
DESCRIPTION:Children’s Theatre: Presenting “Twice Upon A Time” \nTryouts: May 11-13\, 4-6 pm in the KBCC \nPractices: May 18\, 4-6 pm through the end of the school year\nthen they will be daily from 9-11 am. \nDress Rehearsal: June 15 \nProduction: June 18 & 19\, 7 pm
URL:http://dcfineartscouncil.com/event/childrens-theater-tryouts-twice-upon-a-time-3
LOCATION:Iowa Theater\, 107 S. Washington\, Bloomfield\, IA\, 52537\, United States
CATEGORIES:Children's Theater
END:VEVENT
BEGIN:VEVENT
DTSTART;TZID=America/Chicago:20260513T160000
DTEND;TZID=America/Chicago:20260513T180000
DTSTAMP:20260421T074105
CREATED:20260418T170900Z
LAST-MODIFIED:20260418T213128Z
UID:1831-1778688000-1778695200@dcfineartscouncil.com
SUMMARY:Children's Theater Tryouts: Twice Upon a Time
DESCRIPTION:Children’s Theatre: Presenting “Twice Upon A Time” \nTryouts: May 11-13\, 4-6 pm in the KBCC \nPractices: May 18\, 4-6 pm through the end of the school year\nthen they will be daily from 9-11 am. \nDress Rehearsal: June 15 \nProduction: June 18 & 19\, 7 pm
URL:http://dcfineartscouncil.com/event/childrens-theater-tryouts-twice-upon-a-time
LOCATION:Kay Burchette Cultural Center\, 107 S. Washington\, Bloomfield\, IA\, 52537\, United States
CATEGORIES:Children's Theater
END:VEVENT
END:VCALENDAR