BEGIN:VCALENDAR
VERSION:2.0
PRODID:-//Davis County Fine Arts Council - ECPv6.15.16.1//NONSGML v1.0//EN
CALSCALE:GREGORIAN
METHOD:PUBLISH
X-ORIGINAL-URL:http://dcfineartscouncil.com
X-WR-CALDESC:Events for Davis County Fine Arts Council
REFRESH-INTERVAL;VALUE=DURATION:PT1H
X-Robots-Tag:noindex
X-PUBLISHED-TTL:PT1H
BEGIN:VTIMEZONE
TZID:America/Chicago
BEGIN:DAYLIGHT
TZOFFSETFROM:-0600
TZOFFSETTO:-0500
TZNAME:CDT
DTSTART:20250309T080000
END:DAYLIGHT
BEGIN:STANDARD
TZOFFSETFROM:-0500
TZOFFSETTO:-0600
TZNAME:CST
DTSTART:20251102T070000
END:STANDARD
BEGIN:DAYLIGHT
TZOFFSETFROM:-0600
TZOFFSETTO:-0500
TZNAME:CDT
DTSTART:20260308T080000
END:DAYLIGHT
BEGIN:STANDARD
TZOFFSETFROM:-0500
TZOFFSETTO:-0600
TZNAME:CST
DTSTART:20261101T070000
END:STANDARD
BEGIN:DAYLIGHT
TZOFFSETFROM:-0600
TZOFFSETTO:-0500
TZNAME:CDT
DTSTART:20270314T080000
END:DAYLIGHT
BEGIN:STANDARD
TZOFFSETFROM:-0500
TZOFFSETTO:-0600
TZNAME:CST
DTSTART:20271107T070000
END:STANDARD
END:VTIMEZONE
BEGIN:VEVENT
DTSTART;TZID=America/Chicago:20260320T190000
DTEND;TZID=America/Chicago:20260320T210000
DTSTAMP:20260421T113637
CREATED:20260104T175149Z
LAST-MODIFIED:20260418T171847Z
UID:1631-1774033200-1774040400@dcfineartscouncil.com
SUMMARY:DC Middle School Presents: "Hard Boiled:  A Nursery Crime"
DESCRIPTION:Ticket Information\n\nAdults: $10\nChildren 12 & under: $5
URL:http://dcfineartscouncil.com/event/dc-middle-school-presents-tbd-2
LOCATION:Iowa Theater\, 107 S. Washington\, Bloomfield\, IA\, 52537\, United States
END:VEVENT
END:VCALENDAR