BEGIN:VCALENDAR
VERSION:2.0
PRODID:-//Davis County Fine Arts Council - ECPv6.15.16.1//NONSGML v1.0//EN
CALSCALE:GREGORIAN
METHOD:PUBLISH
X-WR-CALNAME:Davis County Fine Arts Council
X-ORIGINAL-URL:https://dcfineartscouncil.com
X-WR-CALDESC:Events for Davis County Fine Arts Council
REFRESH-INTERVAL;VALUE=DURATION:PT1H
X-Robots-Tag:noindex
X-PUBLISHED-TTL:PT1H
BEGIN:VTIMEZONE
TZID:America/Chicago
BEGIN:DAYLIGHT
TZOFFSETFROM:-0600
TZOFFSETTO:-0500
TZNAME:CDT
DTSTART:20250309T080000
END:DAYLIGHT
BEGIN:STANDARD
TZOFFSETFROM:-0500
TZOFFSETTO:-0600
TZNAME:CST
DTSTART:20251102T070000
END:STANDARD
BEGIN:DAYLIGHT
TZOFFSETFROM:-0600
TZOFFSETTO:-0500
TZNAME:CDT
DTSTART:20260308T080000
END:DAYLIGHT
BEGIN:STANDARD
TZOFFSETFROM:-0500
TZOFFSETTO:-0600
TZNAME:CST
DTSTART:20261101T070000
END:STANDARD
BEGIN:DAYLIGHT
TZOFFSETFROM:-0600
TZOFFSETTO:-0500
TZNAME:CDT
DTSTART:20270314T080000
END:DAYLIGHT
BEGIN:STANDARD
TZOFFSETFROM:-0500
TZOFFSETTO:-0600
TZNAME:CST
DTSTART:20271107T070000
END:STANDARD
END:VTIMEZONE
BEGIN:VEVENT
DTSTART;TZID=America/Chicago:20260419T133000
DTEND;TZID=America/Chicago:20260419T150000
DTSTAMP:20260421T073644
CREATED:20260409T163531Z
LAST-MODIFIED:20260418T213243Z
UID:1800-1776605400-1776610800@dcfineartscouncil.com
SUMMARY:DCHS Speech and Instrumental Music Student Showcase
DESCRIPTION:Davis County High School Speech and Instrumental Music students who earned a I rating at their respective state contest will be featured at a performance showcase this Sunday\, April 19th at the Iowa Theater.  The event begins at 1:30 PM.  A freewill donation will be taken and the money received will be divided equally between the two school groups.  A reception will follow in the Kay Burchette Cultural Center.
URL:https://dcfineartscouncil.com/event/dchs-speech-and-instrumental-music-student-showcase
LOCATION:Iowa Theater\, 107 S. Washington\, Bloomfield\, IA\, 52537\, United States
CATEGORIES:Davis County Community Schools,Spectrum for the Arts
END:VEVENT
END:VCALENDAR