BEGIN:VCALENDAR
VERSION:2.0
PRODID:-//Davis County Fine Arts Council - ECPv6.15.16.1//NONSGML v1.0//EN
CALSCALE:GREGORIAN
METHOD:PUBLISH
X-ORIGINAL-URL:https://dcfineartscouncil.com
X-WR-CALDESC:Events for Davis County Fine Arts Council
REFRESH-INTERVAL;VALUE=DURATION:PT1H
X-Robots-Tag:noindex
X-PUBLISHED-TTL:PT1H
BEGIN:VTIMEZONE
TZID:America/Chicago
BEGIN:DAYLIGHT
TZOFFSETFROM:-0600
TZOFFSETTO:-0500
TZNAME:CDT
DTSTART:20250309T080000
END:DAYLIGHT
BEGIN:STANDARD
TZOFFSETFROM:-0500
TZOFFSETTO:-0600
TZNAME:CST
DTSTART:20251102T070000
END:STANDARD
BEGIN:DAYLIGHT
TZOFFSETFROM:-0600
TZOFFSETTO:-0500
TZNAME:CDT
DTSTART:20260308T080000
END:DAYLIGHT
BEGIN:STANDARD
TZOFFSETFROM:-0500
TZOFFSETTO:-0600
TZNAME:CST
DTSTART:20261101T070000
END:STANDARD
BEGIN:DAYLIGHT
TZOFFSETFROM:-0600
TZOFFSETTO:-0500
TZNAME:CDT
DTSTART:20270314T080000
END:DAYLIGHT
BEGIN:STANDARD
TZOFFSETFROM:-0500
TZOFFSETTO:-0600
TZNAME:CST
DTSTART:20271107T070000
END:STANDARD
END:VTIMEZONE
BEGIN:VEVENT
DTSTART;TZID=America/Chicago:20260425T190000
DTEND;TZID=America/Chicago:20260425T214000
DTSTAMP:20260421T075233
CREATED:20260316T225948Z
LAST-MODIFIED:20260418T213308Z
UID:1782-1777143600-1777153200@dcfineartscouncil.com
SUMMARY:PROJECT HAIL MARY (PG-13) – 2 hr. 40 min.
DESCRIPTION:Movie Ticket Information\n\nAdults: $5\n12 and under: $4\nDoors open 20 minutes prior to the viewing\n\nConcessions available at the movies. \nGetting Movie Passes
URL:https://dcfineartscouncil.com/event/project-hail-mary-pg-13-2-hr-40-min-2
LOCATION:Iowa Theater\, 107 S. Washington\, Bloomfield\, IA\, 52537\, United States
CATEGORIES:Movie
END:VEVENT
END:VCALENDAR